Workbook

Sheet 様式第30号（第１面）
A1: 様式第30号（第63条関係）
A2: （第１面）
A3: 産業廃棄物運搬実績報告書（令和 年度実績）
A4: －収集運搬業－
I5: 年 月 日
A7: （宛先）長野市長
G8: 住 所
G10: 氏 名
G12: 連絡先（電話）
G13: （法人にあっては、主たる事務所の所在地、名称及び代表者の氏名）
G14: 担当者名
A16: 令和 年度の産業廃棄物の運搬実績について、長野市廃棄物の適正な処理の確保に関する条例第78条第１項の規定により報告します。
A17: 産業廃棄物収集運搬業の許可番号 | G17: 特別管理産業廃棄物収集運搬業の許可番号
A18: 産業廃棄物の運搬を受託した実績の有無
A19: 普通産業廃棄物の種類 | B19: コード | C19: 市内又は市外で受託した普通産業廃棄物の市内への運搬量（ｔ） | E19: 市内で受託した普通産業廃棄物の市外への運搬量（ｔ） | G19: 特別管理産業廃棄物の種類 | I19: コード | J19: 市内又は市外で受託した特別管理産業廃棄物の市内への運搬量（ｔ） | L19: 市内で受託した特別管理産業廃棄物の市外への運搬量（ｔ）
A20: 燃え殻（水銀なし） | B20: 0101 | G20: 【特管】引火性廃油 | I20: 7000
A21: 燃え殻（水銀含有） | B21: 0102 | G21: 【特管】腐食廃酸 | I21: 7100
A22: 有機性汚泥 | B22: 0210 | G22: 【特管】腐食廃アルカリ | I22: 7200
A23: 無機性汚泥（石綿・水銀なし） | B23: 0221 | G23: 【特管】感染性廃棄物 | I23: 7300
A24: 無機性汚泥（石綿含有） | B24: 0222 | G24: 【特管】廃ＰＣＢ等（特定有害） | I24: 7410
A25: 無機性汚泥（水銀含有） | B25: 0223 | G25: 【特管】廃水銀等（特定有害） | I25: 7440
A26: 廃油 | B26: 0300 | G26: 【特管】廃石綿等（特定有害） | I26: 7420
A27: 廃酸（水銀なし） | B27: 0401 | G27: 【特管】鉱さい（特定有害） | I27: 7423
A28: 廃酸（水銀含有） | B28: 0402 | G28: 【特管】ばいじん（特定有害） | I28: 7429
A29: 廃アルカリ（水銀なし） | B29: 0501 | G29: 【特管】燃え殻（特定有害） | I29: 7424
A30: 廃アルカリ（水銀含有） | B30: 0502 | G30: 【特管】廃油（特定有害） | I30: 7425
A31: 廃プラスチック類（石綿なし） | B31: 0601 | G31: 【特管】汚泥（特定有害） | I31: 7426
... A35: 繊維くず | B35: 0900 | G35: 【特管】処理するために処分したもの（特定有害） | I35: 7430
A36: 動・植物性残さ | B36: 1000
A37: 動物系固形不要物 | B37: 4000
A38: ゴムくず | B38: 1100
A39: 金属くず | B39: 1200
A40: ガラ・コン・陶磁器（石綿なし） | B40: 1301
A41: ガラ・コン・陶磁器（石綿含有） | B41: 1302
A42: 鉱さい（水銀なし） | B42: 1401
A43: 鉱さい（水銀含有） | B43: 1402
A44: がれき類（石綿なし） | B44: 1501
A45: がれき類（石綿含有） | B45: 1502
A46: 動物のふん尿 | B46: 1600
A47: 動物の死体 | B47: 1700
...

Sheet 様式第30号（第２面）
A1: （第２面）
E3: 氏 名
E4: （法人にあっては、名称）
A6: 市内で受託した産業廃棄物の市外への運搬状況
B7: 産業廃棄物の種類 | D7: 市外への運搬状況
B8: 種 類 | C8: コード | D8: 運搬先の 都道府県 | E8: 中間処理目的 | F8: 最終処分目的 | G8: 運搬量 合計 （①＋②）
E9: 都道府県別 運搬量（ｔ） ① | F9: 都道府県別 運搬量（ｔ） ②
B10: =IF(C10="","",INDEX('データ（触らないでください）'!$C$4:$C$52,MATCH(C10,'データ（触らないでください）'!$B$4:$B$52,0))) | G10: =IF(E10+F10>0,SUM(E10:F10),"")
B11: =IF(C11="","",INDEX('データ（触らないでください）'!$C$4:$C$52,MATCH(C11,'データ（触らないでください）'!$B$4:$B$52,0))) | G11: =IF(E11+F11>0,SUM(E11:F11),"")
B12: =IF(C12="","",INDEX('データ（触らないでください）'!$C$4:$C$52,MATCH(C12,'データ（触らないでください）'!$B$4:$B$52,0))) | G12: =IF(E12+F12>0,SUM(E12:F12),"")
B13: =IF(C13="","",INDEX('データ（触らないでください）'!$C$4:$C$52,MATCH(C13,'データ（触らないでください）'!$B$4:$B$52,0))) | G13: =IF(E13+F13>0,SUM(E13:F13),"")
B14: =IF(C14="","",INDEX('データ（触らないでください）'!$C$4:$C$52,MATCH(C14,'データ（触らないでください）'!$B$4:$B$52,0))) | G14: =IF(E14+F14>0,SUM(E14:F14),"")
B15: =IF(C15="","",INDEX('データ（触らないでください）'!$C$4:$C$52,MATCH(C15,'データ（触らないでください）'!$B$4:$B$52,0))) | G15: =IF(E15+F15>0,SUM(E15:F15),"")
B16: =IF(C16="","",INDEX('データ（触らないでください）'!$C$4:$C$52,MATCH(C16,'データ（触らないでください）'!$B$4:$B$52,0))) | G16: =IF(E16+F16>0,SUM(E16:F16),"")
B17: =IF(C17="","",INDEX('データ（触らないでください）'!$C$4:$C$52,MATCH(C17,'データ（触らないでください）'!$B$4:$B$52,0))) | G17: =IF(E17+F17>0,SUM(E17:F17),"")
B18: =IF(C18="","",INDEX('データ（触らないでください）'!$C$4:$C$52,MATCH(C18,'データ（触らないでください）'!$B$4:$B$52,0))) | G18: =IF(E18+F18>0,SUM(E18:F18),"")
B19: =IF(C19="","",INDEX('データ（触らないでください）'!$C$4:$C$52,MATCH(C19,'データ（触らないでください）'!$B$4:$B$52,0))) | G19: =IF(E19+F19>0,SUM(E19:F19),"")
B20: =IF(C20="","",INDEX('データ（触らないでください）'!$C$4:$C$52,MATCH(C20,'データ（触らないでください）'!$B$4:$B$52,0))) | G20: =IF(E20+F20>0,SUM(E20:F20),"")
B21: =IF(C21="","",INDEX('データ（触らないでください）'!$C$4:$C$52,MATCH(C21,'データ（触らないでください）'!$B$4:$B$52,0))) | G21: =IF(E21+F21>0,SUM(E21:F21),"")
... B43: =IF(C43="","",INDEX('データ（触らないでください）'!$C$4:$C$52,MATCH(C43,'データ（触らないでください）'!$B$4:$B$52,0))) | G43: =IF(E43+F43>0,SUM(E43:F43),"")
A44: 備考
A45: １ 市外への運搬がない場合は、第２面の記載は不要です。
A46: ２ 運搬量は、トンに換算して記載してください。
A47: ３ 運搬量は、小数点以下第１位まで記載するものとし、小数点以下第１位未満の端数があるときは、これを四捨五入してくだ
A48: さい。ただし、運搬量が 0.1トン未満の場合は、小数点以下第１位未満も記載してください。
A49: ４ 長野県内の市町村（長野市を除く。）に運搬した場合は、「運搬先の都道府県」の欄に「長野県」と記載してください。

Sheet 様式第30号（第２面） (１ページで収まらない場合)
A1: （第２面）
E2: 氏 名
E3: （法人にあっては、名称）
A4: 市内で受託した産業廃棄物の市外への運搬状況
B5: 産業廃棄物の種類 | D5: 市外への運搬状況
B6: 種 類 | C6: コード | D6: 運搬先の 都道府県 | E6: 中間処理目的 | F6: 最終処分目的 | G6: 運搬量 合計 （①＋②）
E7: 都道府県別 運搬量（ｔ） ① | F7: 都道府県別 運搬量（ｔ） ②
B8: =IF(C8="","",INDEX('データ（触らないでください）'!$C$4:$C$52,MATCH(C8,'データ（触らないでください）'!$B$4:$B$52,0))) | G8: =IF(E8+F8>0,SUM(E8:F8),"")
B9: =IF(C9="","",INDEX('データ（触らないでください）'!$C$4:$C$52,MATCH(C9,'データ（触らないでください）'!$B$4:$B$52,0))) | G9: =IF(E9+F9>0,SUM(E9:F9),"")
B10: =IF(C10="","",INDEX('データ（触らないでください）'!$C$4:$C$52,MATCH(C10,'データ（触らないでください）'!$B$4:$B$52,0))) | G10: =IF(E10+F10>0,SUM(E10:F10),"")
B11: =IF(C11="","",INDEX('データ（触らないでください）'!$C$4:$C$52,MATCH(C11,'データ（触らないでください）'!$B$4:$B$52,0))) | G11: =IF(E11+F11>0,SUM(E11:F11),"")
B12: =IF(C12="","",INDEX('データ（触らないでください）'!$C$4:$C$52,MATCH(C12,'データ（触らないでください）'!$B$4:$B$52,0))) | G12: =IF(E12+F12>0,SUM(E12:F12),"")
B13: =IF(C13="","",INDEX('データ（触らないでください）'!$C$4:$C$52,MATCH(C13,'データ（触らないでください）'!$B$4:$B$52,0))) | G13: =IF(E13+F13>0,SUM(E13:F13),"")
B14: =IF(C14="","",INDEX('データ（触らないでください）'!$C$4:$C$52,MATCH(C14,'データ（触らないでください）'!$B$4:$B$52,0))) | G14: =IF(E14+F14>0,SUM(E14:F14),"")
B15: =IF(C15="","",INDEX('データ（触らないでください）'!$C$4:$C$52,MATCH(C15,'データ（触らないでください）'!$B$4:$B$52,0))) | G15: =IF(E15+F15>0,SUM(E15:F15),"")
B16: =IF(C16="","",INDEX('データ（触らないでください）'!$C$4:$C$52,MATCH(C16,'データ（触らないでください）'!$B$4:$B$52,0))) | G16: =IF(E16+F16>0,SUM(E16:F16),"")
B17: =IF(C17="","",INDEX('データ（触らないでください）'!$C$4:$C$52,MATCH(C17,'データ（触らないでください）'!$B$4:$B$52,0))) | G17: =IF(E17+F17>0,SUM(E17:F17),"")
B18: =IF(C18="","",INDEX('データ（触らないでください）'!$C$4:$C$52,MATCH(C18,'データ（触らないでください）'!$B$4:$B$52,0))) | G18: =IF(E18+F18>0,SUM(E18:F18),"")
B19: =IF(C19="","",INDEX('データ（触らないでください）'!$C$4:$C$52,MATCH(C19,'データ（触らないでください）'!$B$4:$B$52,0))) | G19: =IF(E19+F19>0,SUM(E19:F19),"")
... B151: =IF(C151="","",INDEX('データ（触らないでください）'!$C$4:$C$52,MATCH(C151,'データ（触らないでください）'!$B$4:$B$52,0))) | G151: =IF(E151+F151>0,SUM(E151:F151),"")

Sheet データ（触らないでください）
B1: 廃棄物
B2: コード | C2: 種類 | D2: 地域
B4: 0101 | C4: 燃え殻(水銀なし) | D4: 長野県
B5: 0102 | C5: 燃え殻(水銀含有) | D5: 埼玉県
B6: 0210 | C6: 有機性汚泥 | D6: 新潟県
B7: 0221 | C7: 無機性汚泥（石綿・水銀なし） | D7: 富山県
B8: 0222 | C8: 無機性汚泥（石綿含有） | D8: 茨城県
B9: 0223 | C9: 無機性汚泥（水銀含有） | D9: 栃木県
B10: 0300 | C10: 廃油 | D10: 三重県
B11: 0401 | C11: 廃酸（水銀なし） | D11: 群馬県
B12: 0402 | C12: 廃酸（水銀含有） | D12: 神奈川県
B13: 0501 | C13: 廃アルカリ（水銀なし） | D13: 静岡県
B14: 0502 | C14: 廃アルカリ（水銀含有） | D14: 石川県
... B50: 7429 | C50: 【特管】ばいじん（特定有害） | D50: 沖縄県
B51: 7430 | C51: 【特管】処理するために処分したもの（特定有害）
B52: 7440 | C52: 【特管】廃水銀等（特定有害）
