Workbook

Sheet 様式第31号
A1: 様式第31号（第63条関係）
A2: （第１面）
A3: 産業廃棄物処分実績報告書（令和 年度実績）
A4: － 中間処理業 ・ 最終処分業 －
G5: 年 月 日
A7: （宛先）長野市長
E9: 住 所
E11: 氏 名
E13: 連絡先（電話）
E14: （法人にあっては、主たる事務所の所在地、名称及び代表者の氏名）
E15: 担 当 者 名
A18: 令和 年度の産業廃棄物の処分実績について、長野市廃棄物の適正な処理の確保に関する条例第７８条第１項の規定により報告します。 | B18: 令和 年度の（特別管理）産業廃棄物の処分実績について、廃棄物の適正な処理の確保に関する条例第54条第１項の規定により、次のとおり報告します。 | C18: 令和 年度の（特別管理）産業廃棄物の処分実績について、廃棄物の適正な処理の確保に関する条例第54条第１項の規定により、次のとおり報告します。 | F18: 令和 年度の（特別管理）産業廃棄物の処分実績について、廃棄物の適正な処理の確保に関する条例第54条第１項の規定により、次のとおり報告します。 | G18: 令和 年度の（特別管理）産業廃棄物の処分実績について、廃棄物の適正な処理の確保に関する条例第54条第１項の規定により、次のとおり報告します。 | I18: 令和 年度の（特別管理）産業廃棄物の処分実績について、廃棄物の適正な処理の確保に関する条例第54条第１項の規定により、次のとおり報告します。
A19: 産業廃棄物処分業の許可番号 | E19: 特別管理産業廃棄物処分業の許可番号
A20: 許可の種類 | E20: 産業廃棄物の処分を受託した実績の有無
A21: 普通産業廃棄物の種類 | B21: コード | C21: 受託した普通産業廃棄物の処分量（ｔ） | E21: 特別管理産業廃棄物の種類 | G21: コード | H21: 受託した特別管理産業廃棄物の処分量（ｔ）
A22: 燃え殻（水銀なし） | B22: 0101 | E22: 【特管】引火性廃油 | G22: 7000
A23: 燃え殻（水銀含有） | B23: 0102 | E23: 【特管】腐食廃酸 | G23: 7100
A24: 有機性汚泥 | B24: 0210 | E24: 【特管】腐食廃アルカリ | G24: 7200
A25: 無機性汚泥（石綿・水銀なし） | B25: 0221 | E25: 【特管】感染性廃棄物 | G25: 7300
A26: 無機性汚泥（石綿含有） | B26: 0222 | E26: 【特管】廃ＰＣＢ等（特定有害） | G26: 7410
A27: 無機性汚泥（水銀含有） | B27: 0223 | E27: 【特管】廃水銀等（特定有害） | G27: 7440
A28: 廃油 | B28: 0300 | E28: 【特管】廃石綿等（特定有害） | G28: 7420
A29: 廃酸（水銀なし） | B29: 0401 | E29: 【特管】鉱さい（特定有害） | G29: 7423
A30: 廃酸（水銀含有） | B30: 0402 | E30: 【特管】ばいじん（特定有害） | G30: 7429
A31: 廃アルカリ（水銀なし） | B31: 0501 | E31: 【特管】燃え殻（特定有害） | G31: 7424
A32: 廃アルカリ（水銀含有） | B32: 0502 | E32: 【特管】廃油（特定有害） | G32: 7425
A33: 廃プラスチック類（石綿なし） | B33: 0601 | E33: 【特管】汚泥（特定有害） | G33: 7426
... A37: 繊維くず | B37: 0900 | E37: 【特管】処理するために処分したもの（特定有害） | G37: 7430
A38: 動・植物性残さ | B38: 1000
A39: 動物系固形不要物 | B39: 4000
A40: ゴムくず | B40: 1100
A41: 金属くず | B41: 1200
A42: ガラ・コン・陶磁器（石綿なし） | B42: 1301
A43: ガラ・コン・陶磁器（石綿含有） | B43: 1302
A44: 鉱さい（水銀なし） | B44: 1401
A45: 鉱さい（水銀含有） | B45: 1402
A46: がれき類（石綿なし） | B46: 1501
A47: がれき類（石綿含有） | B47: 1502
A48: 動物のふん尿 | B48: 1600
A49: 動物の死体 | B49: 1700
...

Sheet 様式第31号（第２面）
A1: （第２面）
F3: 氏 名
F4: （法人にあっては、名称）
A6: 処分を受託した産業廃棄物の処分の状況
B7: 区分 | D7: 地域別受託状況 | F7: 受託した産業廃棄物の処分状況
B8: 産業廃棄物の種類 | C8: コード | D8: 受託元地域 | E8: 目的 | F8: 中間処理目的 | H8: 最終処分目的 | I8: 処分量合計 （①＋②）
E9: Ａ：中間処理 Ｂ：最終処分 Ｃ：中間処理 及び最終 処分 | F9: 処分の方法 | G9: 中間処理の受 託量（ｔ）① | H9: 最終処分の受託量・中間処理後に自社で最終処分を行う場合の処分量（ｔ）②
B10: =IF(C10="","",INDEX('データ（触らないでください）'!$C$4:$C$52,MATCH(C10,'データ（触らないでください）'!$B$4:$B$52))) | I10: =IF(G10+H10>0,SUM(G10:H10),"")
B11: =IF(C11="","",INDEX('データ（触らないでください）'!$C$4:$C$52,MATCH(C11,'データ（触らないでください）'!$B$4:$B$52))) | I11: =IF(G11+H11>0,SUM(G11:H11),"")
B12: =IF(C12="","",INDEX('データ（触らないでください）'!$C$4:$C$52,MATCH(C12,'データ（触らないでください）'!$B$4:$B$52))) | I12: =IF(G12+H12>0,SUM(G12:H12),"")
B13: =IF(C13="","",INDEX('データ（触らないでください）'!$C$4:$C$52,MATCH(C13,'データ（触らないでください）'!$B$4:$B$52))) | I13: =IF(G13+H13>0,SUM(G13:H13),"")
B14: =IF(C14="","",INDEX('データ（触らないでください）'!$C$4:$C$52,MATCH(C14,'データ（触らないでください）'!$B$4:$B$52))) | I14: =IF(G14+H14>0,SUM(G14:H14),"")
B15: =IF(C15="","",INDEX('データ（触らないでください）'!$C$4:$C$52,MATCH(C15,'データ（触らないでください）'!$B$4:$B$52))) | I15: =IF(G15+H15>0,SUM(G15:H15),"")
B16: =IF(C16="","",INDEX('データ（触らないでください）'!$C$4:$C$52,MATCH(C16,'データ（触らないでください）'!$B$4:$B$52))) | I16: =IF(G16+H16>0,SUM(G16:H16),"")
B17: =IF(C17="","",INDEX('データ（触らないでください）'!$C$4:$C$52,MATCH(C17,'データ（触らないでください）'!$B$4:$B$52))) | I17: =IF(G17+H17>0,SUM(G17:H17),"")
B18: =IF(C18="","",INDEX('データ（触らないでください）'!$C$4:$C$52,MATCH(C18,'データ（触らないでください）'!$B$4:$B$52))) | I18: =IF(G18+H18>0,SUM(G18:H18),"")
B19: =IF(C19="","",INDEX('データ（触らないでください）'!$C$4:$C$52,MATCH(C19,'データ（触らないでください）'!$B$4:$B$52))) | I19: =IF(G19+H19>0,SUM(G19:H19),"")
B20: =IF(C20="","",INDEX('データ（触らないでください）'!$C$4:$C$52,MATCH(C20,'データ（触らないでください）'!$B$4:$B$52))) | I20: =IF(G20+H20>0,SUM(G20:H20),"")
B21: =IF(C21="","",INDEX('データ（触らないでください）'!$C$4:$C$52,MATCH(C21,'データ（触らないでください）'!$B$4:$B$52))) | I21: =IF(G21+H21>0,SUM(G21:H21),"")
... B43: =IF(C43="","",INDEX('データ（触らないでください）'!$C$4:$C$52,MATCH(C43,'データ（触らないでください）'!$B$4:$B$52))) | I43: =IF(G43+H43>0,SUM(G43:H43),"")
A44: 備考
A45: １ 中間処理の受託量及び最終処分の受託量・中間処理後に自社で最終処分を行う場合の処分量は、全てトンに換算して記載してくだ
A46: さい。
A47: ２ 中間処理の受託量及び最終処分の受託量・中間処理後に自社で最終処分を行う場合の処分量は、小数点以下第１位まで記載するも
A48: のとし、小数点以下第１位未満の端数があるときは、これを四捨五入してください。ただし、処分量が 0.1トン未満の場合は、小数
A49: 点以下第１位未満も記載してください。
A50: ３ 「受託元地域」欄には、受託元の各都道府県名を記載してください。ただし、長野県内の市町村（長野市を除く。）で受託した場
A51: 合は「長野県内（市外）」と、長野市内で受託した場合は「長野市内」と記載してください。

Sheet 様式第31号（第２面） (１ページで収まらない場合)
A1: （第２面）
F2: 氏 名
F3: （法人にあっては、名称）
A4: 処分を受託した産業廃棄物の処分の状況
B5: 区分 | D5: 地域別受託状況 | F5: 受託した産業廃棄物の処分状況
B6: 産業廃棄物の種類 | C6: コード | D6: 受託元地域 | E6: 目的 | F6: 中間処理目的 | H6: 最終処分目的 | I6: 処分量合計 （①＋②）
E7: Ａ：中間処理 Ｂ：最終処分 Ｃ：中間処理 及び最終 処分 | F7: 処分の方法 | G7: 中間処理の受 託量（ｔ）① | H7: 最終処分の受託量・中間処理後に自社で最終処分を行う場合の処分量（ｔ）②
B8: =IF(C8="","",INDEX('データ（触らないでください）'!$C$4:$C$52,MATCH(C8,'データ（触らないでください）'!$B$4:$B$52))) | I8: =IF(G8+H8>0,SUM(G8:H8),"")
B9: =IF(C9="","",INDEX('データ（触らないでください）'!$C$4:$C$52,MATCH(C9,'データ（触らないでください）'!$B$4:$B$52))) | I9: =IF(G9+H9>0,SUM(G9:H9),"")
B10: =IF(C10="","",INDEX('データ（触らないでください）'!$C$4:$C$52,MATCH(C10,'データ（触らないでください）'!$B$4:$B$52))) | I10: =IF(G10+H10>0,SUM(G10:H10),"")
B11: =IF(C11="","",INDEX('データ（触らないでください）'!$C$4:$C$52,MATCH(C11,'データ（触らないでください）'!$B$4:$B$52))) | I11: =IF(G11+H11>0,SUM(G11:H11),"")
B12: =IF(C12="","",INDEX('データ（触らないでください）'!$C$4:$C$52,MATCH(C12,'データ（触らないでください）'!$B$4:$B$52))) | I12: =IF(G12+H12>0,SUM(G12:H12),"")
B13: =IF(C13="","",INDEX('データ（触らないでください）'!$C$4:$C$52,MATCH(C13,'データ（触らないでください）'!$B$4:$B$52))) | I13: =IF(G13+H13>0,SUM(G13:H13),"")
B14: =IF(C14="","",INDEX('データ（触らないでください）'!$C$4:$C$52,MATCH(C14,'データ（触らないでください）'!$B$4:$B$52))) | I14: =IF(G14+H14>0,SUM(G14:H14),"")
B15: =IF(C15="","",INDEX('データ（触らないでください）'!$C$4:$C$52,MATCH(C15,'データ（触らないでください）'!$B$4:$B$52))) | I15: =IF(G15+H15>0,SUM(G15:H15),"")
B16: =IF(C16="","",INDEX('データ（触らないでください）'!$C$4:$C$52,MATCH(C16,'データ（触らないでください）'!$B$4:$B$52))) | I16: =IF(G16+H16>0,SUM(G16:H16),"")
B17: =IF(C17="","",INDEX('データ（触らないでください）'!$C$4:$C$52,MATCH(C17,'データ（触らないでください）'!$B$4:$B$52))) | I17: =IF(G17+H17>0,SUM(G17:H17),"")
B18: =IF(C18="","",INDEX('データ（触らないでください）'!$C$4:$C$52,MATCH(C18,'データ（触らないでください）'!$B$4:$B$52))) | I18: =IF(G18+H18>0,SUM(G18:H18),"")
B19: =IF(C19="","",INDEX('データ（触らないでください）'!$C$4:$C$52,MATCH(C19,'データ（触らないでください）'!$B$4:$B$52))) | I19: =IF(G19+H19>0,SUM(G19:H19),"")
... B247: =IF(C247="","",INDEX('データ（触らないでください）'!$C$4:$C$52,MATCH(C247,'データ（触らないでください）'!$B$4:$B$52))) | I247: =IF(G247+H247>0,SUM(G247:H247),"")

Sheet 検証シート（入力完了後に確認してください）
B2: 普通産業廃棄物 | C2: コード | D2: 第１面入力数値 | E2: 第2面入力数値集計 （１ページシート） | F2: 第2面入力数値集計 （１ページ以上シート）
B3: 燃え殻（水銀なし） | C3: 0101 | D3: =様式第31号!$C22 -> 0 | E3: =SUMIF('様式第31号（第２面）'!$C$10:$C$43,C3,'様式第31号（第２面）'!$I$10:$I$43) -> 0 | F3: =SUMIF('様式第31号（第２面） (１ページで収まらない場合)'!$C$8:$C$247,C3,'様式第31号（第２面） (１ページで収まらない場合)'!$I$8:$I$247) -> 0
B4: 燃え殻（水銀含有） | C4: 0102 | D4: =様式第31号!$C23 -> 0 | E4: =SUMIF('様式第31号（第２面）'!$C$10:$C$43,C4,'様式第31号（第２面）'!$I$10:$I$43) -> 0 | F4: =SUMIF('様式第31号（第２面） (１ページで収まらない場合)'!$C$8:$C$247,C4,'様式第31号（第２面） (１ページで収まらない場合)'!$I$8:$I$247) -> 0
B5: 有機性汚泥 | C5: 0210 | D5: =様式第31号!$C24 -> 0 | E5: =SUMIF('様式第31号（第２面）'!$C$10:$C$43,C5,'様式第31号（第２面）'!$I$10:$I$43) -> 0 | F5: =SUMIF('様式第31号（第２面） (１ページで収まらない場合)'!$C$8:$C$247,C5,'様式第31号（第２面） (１ページで収まらない場合)'!$I$8:$I$247) -> 0
B6: 無機性汚泥（石綿・水銀なし） | C6: 0221 | D6: =様式第31号!$C25 -> 0 | E6: =SUMIF('様式第31号（第２面）'!$C$10:$C$43,C6,'様式第31号（第２面）'!$I$10:$I$43) -> 0 | F6: =SUMIF('様式第31号（第２面） (１ページで収まらない場合)'!$C$8:$C$247,C6,'様式第31号（第２面） (１ページで収まらない場合)'!$I$8:$I$247) -> 0
B7: 無機性汚泥（石綿含有） | C7: 0222 | D7: =様式第31号!$C26 -> 0 | E7: =SUMIF('様式第31号（第２面）'!$C$10:$C$43,C7,'様式第31号（第２面）'!$I$10:$I$43) -> 0 | F7: =SUMIF('様式第31号（第２面） (１ページで収まらない場合)'!$C$8:$C$247,C7,'様式第31号（第２面） (１ページで収まらない場合)'!$I$8:$I$247) -> 0
B8: 無機性汚泥（水銀含有） | C8: 0223 | D8: =様式第31号!$C27 -> 0 | E8: =SUMIF('様式第31号（第２面）'!$C$10:$C$43,C8,'様式第31号（第２面）'!$I$10:$I$43) -> 0 | F8: =SUMIF('様式第31号（第２面） (１ページで収まらない場合)'!$C$8:$C$247,C8,'様式第31号（第２面） (１ページで収まらない場合)'!$I$8:$I$247) -> 0
B9: 廃油 | C9: 0300 | D9: =様式第31号!$C28 -> 0 | E9: =SUMIF('様式第31号（第２面）'!$C$10:$C$43,C9,'様式第31号（第２面）'!$I$10:$I$43) -> 0 | F9: =SUMIF('様式第31号（第２面） (１ページで収まらない場合)'!$C$8:$C$247,C9,'様式第31号（第２面） (１ページで収まらない場合)'!$I$8:$I$247) -> 0
B10: 廃酸（水銀なし） | C10: 0401 | D10: =様式第31号!$C29 -> 0 | E10: =SUMIF('様式第31号（第２面）'!$C$10:$C$43,C10,'様式第31号（第２面）'!$I$10:$I$43) -> 0 | F10: =SUMIF('様式第31号（第２面） (１ページで収まらない場合)'!$C$8:$C$247,C10,'様式第31号（第２面） (１ページで収まらない場合)'!$I$8:$I$247) -> 0
B11: 廃酸（水銀含有） | C11: 0402 | D11: =様式第31号!$C30 -> 0 | E11: =SUMIF('様式第31号（第２面）'!$C$10:$C$43,C11,'様式第31号（第２面）'!$I$10:$I$43) -> 0 | F11: =SUMIF('様式第31号（第２面） (１ページで収まらない場合)'!$C$8:$C$247,C11,'様式第31号（第２面） (１ページで収まらない場合)'!$I$8:$I$247) -> 0
B12: 廃アルカリ（水銀なし） | C12: 0501 | D12: =様式第31号!$C31 -> 0 | E12: =SUMIF('様式第31号（第２面）'!$C$10:$C$43,C12,'様式第31号（第２面）'!$I$10:$I$43) -> 0 | F12: =SUMIF('様式第31号（第２面） (１ページで収まらない場合)'!$C$8:$C$247,C12,'様式第31号（第２面） (１ページで収まらない場合)'!$I$8:$I$247) -> 0
B13: 廃アルカリ（水銀含有） | C13: 0502 | D13: =様式第31号!$C32 -> 0 | E13: =SUMIF('様式第31号（第２面）'!$C$10:$C$43,C13,'様式第31号（第２面）'!$I$10:$I$43) -> 0 | F13: =SUMIF('様式第31号（第２面） (１ページで収まらない場合)'!$C$8:$C$247,C13,'様式第31号（第２面） (１ページで収まらない場合)'!$I$8:$I$247) -> 0
B14: 廃プラスチック類（石綿なし） | C14: 0601 | D14: =様式第31号!$C33 -> 0 | E14: =SUMIF('様式第31号（第２面）'!$C$10:$C$43,C14,'様式第31号（第２面）'!$I$10:$I$43) -> 0 | F14: =SUMIF('様式第31号（第２面） (１ページで収まらない場合)'!$C$8:$C$247,C14,'様式第31号（第２面） (１ページで収まらない場合)'!$I$8:$I$247) -> 0
... B35: その他（混合廃棄物等） | C35: 2000 | D35: =様式第31号!$C54 -> 0 | E35: =SUMIF('様式第31号（第２面）'!$C$10:$C$43,C35,'様式第31号（第２面）'!$I$10:$I$43) -> 0 | F35: =SUMIF('様式第31号（第２面） (１ページで収まらない場合)'!$C$8:$C$247,C35,'様式第31号（第２面） (１ページで収まらない場合)'!$I$8:$I$247) -> 0
B36: 特別管理産業廃棄物
B37: 【特管】引火性廃油 | C37: 7000 | D37: =様式第31号!$H22 -> 0 | E37: =SUMIF('様式第31号（第２面）'!$C$10:$C$43,C37,'様式第31号（第２面）'!$I$10:$I$43) -> 0 | F37: =SUMIF('様式第31号（第２面） (１ページで収まらない場合)'!$C$8:$C$247,C37,'様式第31号（第２面） (１ページで収まらない場合)'!$I$8:$I$247) -> 0
B38: 【特管】腐食廃酸 | C38: 7100 | D38: =様式第31号!$H23 -> 0 | E38: =SUMIF('様式第31号（第２面）'!$C$10:$C$43,C38,'様式第31号（第２面）'!$I$10:$I$43) -> 0 | F38: =SUMIF('様式第31号（第２面） (１ページで収まらない場合)'!$C$8:$C$247,C38,'様式第31号（第２面） (１ページで収まらない場合)'!$I$8:$I$247) -> 0
B39: 【特管】腐食廃アルカリ | C39: 7200 | D39: =様式第31号!$H24 -> 0 | E39: =SUMIF('様式第31号（第２面）'!$C$10:$C$43,C39,'様式第31号（第２面）'!$I$10:$I$43) -> 0 | F39: =SUMIF('様式第31号（第２面） (１ページで収まらない場合)'!$C$8:$C$247,C39,'様式第31号（第２面） (１ページで収まらない場合)'!$I$8:$I$247) -> 0
B40: 【特管】感染性廃棄物 | C40: 7300 | D40: =様式第31号!$H25 -> 0 | E40: =SUMIF('様式第31号（第２面）'!$C$10:$C$43,C40,'様式第31号（第２面）'!$I$10:$I$43) -> 0 | F40: =SUMIF('様式第31号（第２面） (１ページで収まらない場合)'!$C$8:$C$247,C40,'様式第31号（第２面） (１ページで収まらない場合)'!$I$8:$I$247) -> 0
B41: 【特管】廃ＰＣＢ等（特定有害） | C41: 7410 | D41: =様式第31号!$H26 -> 0 | E41: =SUMIF('様式第31号（第２面）'!$C$10:$C$43,C41,'様式第31号（第２面）'!$I$10:$I$43) -> 0 | F41: =SUMIF('様式第31号（第２面） (１ページで収まらない場合)'!$C$8:$C$247,C41,'様式第31号（第２面） (１ページで収まらない場合)'!$I$8:$I$247) -> 0
B42: 【特管】廃水銀等（特定有害） | C42: 7440 | D42: =様式第31号!$H27 -> 0 | E42: =SUMIF('様式第31号（第２面）'!$C$10:$C$43,C42,'様式第31号（第２面）'!$I$10:$I$43) -> 0 | F42: =SUMIF('様式第31号（第２面） (１ページで収まらない場合)'!$C$8:$C$247,C42,'様式第31号（第２面） (１ページで収まらない場合)'!$I$8:$I$247) -> 0
B43: 【特管】廃石綿等（特定有害） | C43: 7420 | D43: =様式第31号!$H28 -> 0 | E43: =SUMIF('様式第31号（第２面）'!$C$10:$C$43,C43,'様式第31号（第２面）'!$I$10:$I$43) -> 0 | F43: =SUMIF('様式第31号（第２面） (１ページで収まらない場合)'!$C$8:$C$247,C43,'様式第31号（第２面） (１ページで収まらない場合)'!$I$8:$I$247) -> 0
B44: 【特管】鉱さい（特定有害） | C44: 7423 | D44: =様式第31号!$H29 -> 0 | E44: =SUMIF('様式第31号（第２面）'!$C$10:$C$43,C44,'様式第31号（第２面）'!$I$10:$I$43) -> 0 | F44: =SUMIF('様式第31号（第２面） (１ページで収まらない場合)'!$C$8:$C$247,C44,'様式第31号（第２面） (１ページで収まらない場合)'!$I$8:$I$247) -> 0
B45: 【特管】ばいじん（特定有害） | C45: 7429 | D45: =様式第31号!$H30 -> 0 | E45: =SUMIF('様式第31号（第２面）'!$C$10:$C$43,C45,'様式第31号（第２面）'!$I$10:$I$43) -> 0 | F45: =SUMIF('様式第31号（第２面） (１ページで収まらない場合)'!$C$8:$C$247,C45,'様式第31号（第２面） (１ページで収まらない場合)'!$I$8:$I$247) -> 0
B46: 【特管】燃え殻（特定有害） | C46: 7424 | D46: =様式第31号!$H31 -> 0 | E46: =SUMIF('様式第31号（第２面）'!$C$10:$C$43,C46,'様式第31号（第２面）'!$I$10:$I$43) -> 0 | F46: =SUMIF('様式第31号（第２面） (１ページで収まらない場合)'!$C$8:$C$247,C46,'様式第31号（第２面） (１ページで収まらない場合)'!$I$8:$I$247) -> 0
B47: 【特管】廃油（特定有害） | C47: 7425 | D47: =様式第31号!$H32 -> 0 | E47: =SUMIF('様式第31号（第２面）'!$C$10:$C$43,C47,'様式第31号（第２面）'!$I$10:$I$43) -> 0 | F47: =SUMIF('様式第31号（第２面） (１ページで収まらない場合)'!$C$8:$C$247,C47,'様式第31号（第２面） (１ページで収まらない場合)'!$I$8:$I$247) -> 0
B48: 【特管】汚泥（特定有害） | C48: 7426 | D48: =様式第31号!$H33 -> 0 | E48: =SUMIF('様式第31号（第２面）'!$C$10:$C$43,C48,'様式第31号（第２面）'!$I$10:$I$43) -> 0 | F48: =SUMIF('様式第31号（第２面） (１ページで収まらない場合)'!$C$8:$C$247,C48,'様式第31号（第２面） (１ページで収まらない場合)'!$I$8:$I$247) -> 0
... B52: 【特管】処理するために処分したもの（特定有害） | C52: 7430 | D52: =様式第31号!$H37 -> 0 | E52: =SUMIF('様式第31号（第２面）'!$C$10:$C$43,C52,'様式第31号（第２面）'!$I$10:$I$43) -> 0 | F52: =SUMIF('様式第31号（第２面） (１ページで収まらない場合)'!$C$8:$C$247,C52,'様式第31号（第２面） (１ページで収まらない場合)'!$I$8:$I$247) -> 0

Sheet データ（触らないでください）
B1: 廃棄物
B2: コード | C2: 種類 | D2: 地域 | E2: 目的 | F2: 処分の方法
B4: 0101 | C4: 燃え殻(水銀なし) | D4: 長野市内 | E4: Ａ：中間処理 | F4: 脱水
B5: 0102 | C5: 燃え殻(水銀含有) | D5: 長野県（市外） | E5: Ｂ：最終処分 | F5: 【特管】脱水
B6: 0210 | C6: 有機性汚泥 | D6: 愛知県 | E6: Ｃ：中間処理及び最終処分 | F6: 乾燥
B7: 0221 | C7: 無機性汚泥（石綿・水銀なし） | D7: 千葉県 | F7: 【特管】蒸発乾固
B8: 0222 | C8: 無機性汚泥（石綿含有） | D8: 埼玉県 | F8: 焼却
B9: 0223 | C9: 無機性汚泥（水銀含有） | D9: 東京都 | F9: 【特管】焼却
B10: 0300 | C10: 廃油 | D10: 群馬県 | F10: 油水分離
B11: 0401 | C11: 廃酸（水銀なし） | D11: 岐阜県 | F11: 中和・凝集沈殿
B12: 0402 | C12: 廃酸（水銀含有） | D12: 茨城県 | F12: 【特管】中和・凝集沈殿
B13: 0501 | C13: 廃アルカリ（水銀なし） | D13: 山梨県 | F13: 【特管】酸化・還元
B14: 0502 | C14: 廃アルカリ（水銀含有） | D14: 新潟県 | F14: 破砕
B15: 0601 | C15: 廃プラスチック類（石綿なし） | D15: 三重県 | F15: 破砕・選別
B16: 0602 | C16: 廃プラスチック類（石綿含有） | D16: 富山県 | F16: 切断
B17: 0700 | C17: 紙くず | D17: 栃木県 | F17: 切断・選別
B18: 0800 | C18: 木くず | D18: 福島県 | F18: 圧縮
... B33: 1900 | C33: 産業廃棄物を処分するために処理したもの | D33: 奈良県 | F33: 抽出
B34: 2000 | C34: その他（混合廃棄物等） | D34: 和歌山県
B35: 2500 | C35: 水銀使用製品産業廃棄物 | D35: 鳥取県
B36: 4000 | C36: 動物系固形不要物 | D36: 島根県
B37: 7000 | C37: 【特管】引火性廃油 | D37: 岡山県
B38: 7100 | C38: 【特管】腐食廃酸 | D38: 広島県
B39: 7200 | C39: 【特管】腐食廃アルカリ | D39: 山口県
B40: 7300 | C40: 【特管】感染性廃棄物 | D40: 徳島県
B41: 7410 | C41: 【特管】廃ＰＣＢ等（特定有害） | D41: 香川県
B42: 7420 | C42: 【特管】廃石綿等（特定有害） | D42: 愛媛県
B43: 7422 | C43: 【特管】指定下水道汚泥（特定有害） | D43: 高知県
B44: 7423 | C44: 【特管】鉱さい（特定有害） | D44: 福岡県
B45: 7424 | C45: 【特管】燃え殻（特定有害） | D45: 佐賀県
... B51: 7430 | C51: 【特管】処理するために処分したもの（特定有害） | D51: 沖縄県
B52: 7440 | C52: 【特管】廃水銀等（特定有害）
